BEGIN:VCALENDAR
VERSION:2.0
PRODID:-//pretix//Inscription//
BEGIN:VTIMEZONE
TZID:Europe/Paris
BEGIN:STANDARD
DTSTART:20001029T030000
RRULE:FREQ=YEARLY;BYDAY=-1SU;BYMONTH=10
TZNAME:CET
TZOFFSETFROM:+0200
TZOFFSETTO:+0100
END:STANDARD
BEGIN:DAYLIGHT
DTSTART:20000326T020000
RRULE:FREQ=YEARLY;BYDAY=-1SU;BYMONTH=3
TZNAME:CEST
TZOFFSETFROM:+0100
TZOFFSETTO:+0200
END:DAYLIGHT
END:VTIMEZONE
BEGIN:VEVENT
UID:pretix-events-moisSO2024-7482@inscription.univ-nantes.fr
DTSTART;TZID=Europe/Paris:20241127T160000
DTEND;TZID=Europe/Paris:20241127T180000
DESCRIPTION:Inscription : https://inscription.univ-nantes.fr/events/moisSO2
 024/7482/\nOrganisé par : Nantes Université
DTSTAMP:20260421T132955Z
LOCATION:Cet atelier se déroulera en visioconférence.\nLe lien zoom vous 
 sera communiqué quelques jours avant celui-ci.
SUMMARY:Retour d’expérience : projet PARABAINO (histoire ancienne) : c
 réation d’une base de données dans une perspective open data
END:VEVENT
END:VCALENDAR
