BEGIN:VCALENDAR
VERSION:2.0
PRODID:-//pretix//Inscription//
BEGIN:VTIMEZONE
TZID:Europe/Paris
BEGIN:STANDARD
DTSTART:20001029T030000
RRULE:FREQ=YEARLY;BYDAY=-1SU;BYMONTH=10
TZNAME:CET
TZOFFSETFROM:+0200
TZOFFSETTO:+0100
END:STANDARD
BEGIN:DAYLIGHT
DTSTART:20000326T020000
RRULE:FREQ=YEARLY;BYDAY=-1SU;BYMONTH=3
TZNAME:CEST
TZOFFSETFROM:+0100
TZOFFSETTO:+0200
END:DAYLIGHT
END:VTIMEZONE
BEGIN:VEVENT
UID:pretix-events-CURATHON2026-AM-11609@inscription.univ-nantes.fr
DTSTART;TZID=Europe/Paris:20260505T150000
DTEND;TZID=Europe/Paris:20260505T154500
DESCRIPTION:Inscription : https://inscription.univ-nantes.fr/events/CURATHO
 N2026-AM/11609/\nOrganisé par : Nantes Université
DTSTAMP:20260419T142347Z
LOCATION:Campus Lombarderie - BU Sciences - Salle PIXA
SUMMARY:Créneau 15h-15h45
END:VEVENT
END:VCALENDAR
