BEGIN:VCALENDAR
VERSION:2.0
PRODID:-//pretix//Inscription//
BEGIN:VTIMEZONE
TZID:Europe/Paris
BEGIN:STANDARD
DTSTART:20001029T030000
RRULE:FREQ=YEARLY;BYDAY=-1SU;BYMONTH=10
TZNAME:CET
TZOFFSETFROM:+0200
TZOFFSETTO:+0100
END:STANDARD
BEGIN:DAYLIGHT
DTSTART:20000326T020000
RRULE:FREQ=YEARLY;BYDAY=-1SU;BYMONTH=3
TZNAME:CEST
TZOFFSETFROM:+0100
TZOFFSETTO:+0200
END:DAYLIGHT
END:VTIMEZONE
BEGIN:VEVENT
UID:pretix-events-ATELIERS-11567@inscription.univ-nantes.fr
DTSTART;TZID=Europe/Paris:20260317T120000
DTEND;TZID=Europe/Paris:20260317T130000
DESCRIPTION:Inscription : https://inscription.univ-nantes.fr/events/ATELIER
 S/11567/\nOrganisé par : Nantes Université
DTSTAMP:20260420T195423Z
LOCATION:Centre de Ressources en Langues (Bâtiment Tertre\, 3e étage)
SUMMARY:Unlock Your Brain: A Simple Guide to Smart Learning
END:VEVENT
END:VCALENDAR
