BEGIN:VCALENDAR
VERSION:2.0
PRODID:-//pretix//Inscription//
BEGIN:VTIMEZONE
TZID:Europe/Paris
BEGIN:STANDARD
DTSTART:20001029T030000
RRULE:FREQ=YEARLY;BYDAY=-1SU;BYMONTH=10
TZNAME:CET
TZOFFSETFROM:+0200
TZOFFSETTO:+0100
END:STANDARD
BEGIN:DAYLIGHT
DTSTART:20000326T020000
RRULE:FREQ=YEARLY;BYDAY=-1SU;BYMONTH=3
TZNAME:CEST
TZOFFSETFROM:+0100
TZOFFSETTO:+0200
END:DAYLIGHT
END:VTIMEZONE
BEGIN:VEVENT
UID:pretix-events-2025-2026-ateliersdesbu-10142@inscription.univ-nantes.fr
DTSTART;TZID=Europe/Paris:20251216T140000
DTEND;TZID=Europe/Paris:20251216T150000
DESCRIPTION:Inscription : https://inscription.univ-nantes.fr/events/2025-20
 26-ateliersdesbu/10142/\nOrganisé par : Nantes Université
DTSTAMP:20260421T130821Z
LOCATION:lien zoom envoyé la veille de l'atelier
SUMMARY:Explorer Europresse et la presse en ligne - distanciel
END:VEVENT
END:VCALENDAR
